BEGIN:VCALENDAR
PRODID:-//Eem//SV
VERSION:2.0
METHOD:PUBLISH
BEGIN:VEVENT
CLASS:PUBLIC
CREATED:20260420T124650Z
DESCRIPTION:Sammanfattning: I samband med Kardiovaskulära vårmötet arrangerar Svenska Hjärtförbundet ett symposium torsdag 23 april kl. 11.40-12.40 i sal M2 på Kistamässan, Stockholm.\n\nMer information: https://www.sls.se/sls/aktuellt/kalendarium-sls-foreningar/svenska-hjartforbundets-symposium-vardens-storsta-riskfaktor-ledarskap-utan-hjarta
DTEND:20260423T124000Z
DTSTAMP:20260420T124650Z
DTSTART:20260423T114000Z
LAST-MODIFIED:20260420T124650Z
LOCATION:Kistamässan
SEQUENCE:0
SUMMARY:Svenska Hjärtförbundets symposium: "Vårdens största riskfaktor - ledarskap utan hjärta"
STATUS:CONFIRMED
TRANSP:TRANSPARENT
UID:0b6977af-1958-40a2-b7b3-cc0592f90e27
END:VEVENT
END:VCALENDAR
