BEGIN:VCALENDAR
PRODID:-//Eem//SV
VERSION:2.0
METHOD:PUBLISH
BEGIN:VEVENT
CLASS:PUBLIC
CREATED:20260423T115107Z
DESCRIPTION:Sammanfattning: På Gymnastik- och idrottshögskolan (GIH) i Stockholm sker detta Vårmöte 2024 - i regi av Svensk Förening för Fysisk Aktivitet och Idrottsmedicin (SFAIM, en medlemsförening inom SLS.\n\nMer information: https://www.sls.se/sls/aktuellt/kalendarium-sls-foreningar/sfaims-varmote-2024
DTEND;VALUE=DATE:20240524
DTSTAMP:20260423T115107Z
DTSTART;VALUE=DATE:20240523
LAST-MODIFIED:20260423T115107Z
LOCATION:
SEQUENCE:0
SUMMARY:SFAIMs Stora Nationella Konferens 23-24/5
STATUS:CONFIRMED
TRANSP:TRANSPARENT
UID:1cafb4ba-9d12-48b0-9c08-fd8b5d540cfa
END:VEVENT
END:VCALENDAR
