BEGIN:VCALENDAR
PRODID:-//Eem//SV
VERSION:2.0
METHOD:PUBLISH
BEGIN:VEVENT
CLASS:PUBLIC
CREATED:20260423T095447Z
DESCRIPTION:Sammanfattning: Svenska skolläkarföreningen arrangerar fortbildning i samarbete med Svenska Läkaresällskapet och Kraftsamling för psykisk hälsa om psykologens bedömning och om när beslut om mottagande i anpassad skola överklagas. \n\nMer information: https://www.sls.se/sls/aktuellt/kalendarium-sls-foreningar/webbinar-utredning-av-lindrig-intellektuell-funktionsnedsattning
DTEND:20250507T130000Z
DTSTAMP:20260423T095447Z
DTSTART:20250506T130000Z
LAST-MODIFIED:20260423T095447Z
LOCATION:Zoom
SEQUENCE:0
SUMMARY:Webbinar - Fördjupning – Utredning av lindrig intellektuell funktionsnedsättning
STATUS:CONFIRMED
TRANSP:TRANSPARENT
UID:ebd7f0f1-7aeb-422f-8855-7d997b2d4803
END:VEVENT
END:VCALENDAR
