BEGIN:VCALENDAR
PRODID:-//Eem//SV
VERSION:2.0
METHOD:PUBLISH
BEGIN:VEVENT
CLASS:PUBLIC
CREATED:20260423T174320Z
DESCRIPTION:Sammanfattning: 

Karolinska Cardiogenic Shock Days will bring together international leading experts in this field and will present a great opportunity to discuss the challenges and lastest advances in Cardiogenic Shock.
More information here

\n\nMer information: https://www.sls.se/sls/aktuellt/kalendarium-sls-foreningar/karolinska-cardiogenic-shock-days
DTEND;VALUE=DATE:20250605
DTSTAMP:20260423T174320Z
DTSTART;VALUE=DATE:20250604
LAST-MODIFIED:20260423T174320Z
LOCATION:Stockholm
SEQUENCE:0
SUMMARY:Karolinska Cardiogenic Shock Days
STATUS:CONFIRMED
TRANSP:TRANSPARENT
UID:a75ee4e4-6586-4ccc-ba47-645a647dd051
END:VEVENT
END:VCALENDAR
