BEGIN:VCALENDAR
PRODID:-//Eem//SV
VERSION:2.0
METHOD:PUBLISH
BEGIN:VEVENT
CLASS:PUBLIC
CREATED:20260419T150259Z
DESCRIPTION:Sammanfattning: Svensk förening för allmänmedicin i samarbete med Svenska Läkaresällskapet (SLS) bjuder in till digitala föreläsningar sista torsdagen i månaden kl. 12.00-13.00, med möjlighet till fördjupning och nationell kollegial dialog.\n\nMer information: https://www.sls.se/sls/aktuellt/kalendarium/sfams-torsdagsmote-det-allmanmedicinska-omdomet\n\nAnslut direkt till mötet: https://us06web.zoom.us/meeting/register/_ZmYQx6ZSleWfZUrEl5ZdQ#/
DTEND;VALUE=DATE:20260501
DTSTAMP:20260419T150259Z
DTSTART;VALUE=DATE:20260430
LAST-MODIFIED:20260419T150259Z
LOCATION:Zoom
SEQUENCE:0
SUMMARY:SFAM:s torsdagsmöte 30/4 - Det allmänmedicinska omdömet
STATUS:CONFIRMED
TRANSP:TRANSPARENT
UID:75c3db1e-80a8-43ba-82f3-d8e01f12a481
END:VEVENT
END:VCALENDAR
