BEGIN:VCALENDAR
PRODID:-//Eem//SV
VERSION:2.0
METHOD:PUBLISH
BEGIN:VEVENT
CLASS:PUBLIC
CREATED:20260423T095456Z
DESCRIPTION:Sammanfattning: Anmälan är öppen till Nordic Cardiac Imaging, NCI 8-9 april 2025 i Malmö!\n\nMer information: https://www.sls.se/sls/aktuellt/kalendarium-sls-foreningar/nci-2025
DTEND;VALUE=DATE:20250409
DTSTAMP:20260423T095456Z
DTSTART;VALUE=DATE:20250408
LAST-MODIFIED:20260423T095456Z
LOCATION:Malmö
SEQUENCE:0
SUMMARY:Nordic Cardiac Imaging, NCI 2025
STATUS:CONFIRMED
TRANSP:TRANSPARENT
UID:b917ce74-3c73-46e7-846b-8df9bd1cb0f8
END:VEVENT
END:VCALENDAR
