BEGIN:VCALENDAR
PRODID:-//Eem//SV
VERSION:2.0
METHOD:PUBLISH
BEGIN:VEVENT
CLASS:PUBLIC
CREATED:20260423T115108Z
DESCRIPTION:Sammanfattning: Försäkringsmedicinska Sällskapet arrangerar ett spännande möte med Socialförsäkringsutskottet den 5 november 2024 kl. 18.30. Åsa Eriksson (S) och Carolina Högström (M), ledamöter i riksdagens socialförsäkringsutskott gästar mötet.\n\nMer information: https://www.sls.se/sls/aktuellt/kalendarium-sls-foreningar/mote-med-socialforsakringsutskottet
DTEND;VALUE=DATE:20241106
DTSTAMP:20260423T115108Z
DTSTART;VALUE=DATE:20241105
LAST-MODIFIED:20260423T115108Z
LOCATION:
SEQUENCE:0
SUMMARY:Möte med Socialförsäkringsutskottet
STATUS:CONFIRMED
TRANSP:TRANSPARENT
UID:12ba14c5-0100-41d4-b976-fbeac5a0c6d7
END:VEVENT
END:VCALENDAR
