BEGIN:VCALENDAR
PRODID:-//Eem//SV
VERSION:2.0
METHOD:PUBLISH
BEGIN:VEVENT
CLASS:PUBLIC
CREATED:20260423T081717Z
DESCRIPTION:Sammanfattning: Välkommen till ARMs årliga höstmöte! Mötet hålls digitalt den 12 november.\n\nMer information: https://www.sls.se/sls/aktuellt/kalendarium-sls-foreningar/arbets-och-miljomedicinskt-hostmote-2025
DTEND:20251113T120000Z
DTSTAMP:20260423T081717Z
DTSTART:20251112T120000Z
LAST-MODIFIED:20260423T081717Z
LOCATION:Digitalt
SEQUENCE:0
SUMMARY:Arbets- och miljömedicinskt höstmöte 2025
STATUS:CONFIRMED
TRANSP:TRANSPARENT
UID:a1f3979b-66c1-48d7-8bfe-0df91a13645d
END:VEVENT
END:VCALENDAR
